BEGIN:VCALENDAR
VERSION:2.0
PRODID:-//HAK/HAS Amstetten - ECPv6.8.1//NONSGML v1.0//EN
CALSCALE:GREGORIAN
METHOD:PUBLISH
X-WR-CALNAME:HAK/HAS Amstetten
X-ORIGINAL-URL:https://www.hakamstetten.at
X-WR-CALDESC:Veranstaltungen für HAK/HAS Amstetten
REFRESH-INTERVAL;VALUE=DURATION:PT1H
X-Robots-Tag:noindex
X-PUBLISHED-TTL:PT1H
BEGIN:VTIMEZONE
TZID:Europe/Berlin
BEGIN:DAYLIGHT
TZOFFSETFROM:+0100
TZOFFSETTO:+0200
TZNAME:CEST
DTSTART:20260329T010000
END:DAYLIGHT
BEGIN:STANDARD
TZOFFSETFROM:+0200
TZOFFSETTO:+0100
TZNAME:CET
DTSTART:20261025T010000
END:STANDARD
END:VTIMEZONE
BEGIN:VEVENT
DTSTART;VALUE=DATE:20260515
DTEND;VALUE=DATE:20260516
DTSTAMP:20260419T231644
CREATED:20250512T084115Z
LAST-MODIFIED:20250512T084115Z
UID:17382-1778803200-1778889599@www.hakamstetten.at
SUMMARY:Schulautonom frei
DESCRIPTION:
URL:https://www.hakamstetten.at/termin/schulautonom-frei/
END:VEVENT
BEGIN:VEVENT
DTSTART;VALUE=DATE:20260529
DTEND;VALUE=DATE:20260604
DTSTAMP:20260419T231644
CREATED:20250625T075740Z
LAST-MODIFIED:20250625T075740Z
UID:18159-1780012800-1780531199@www.hakamstetten.at
SUMMARY:Sommersportwoche 3. Jahrgänge
DESCRIPTION:
URL:https://www.hakamstetten.at/termin/sommersportwoche-3-jahrgaenge/
END:VEVENT
BEGIN:VEVENT
DTSTART;VALUE=DATE:20260605
DTEND;VALUE=DATE:20260606
DTSTAMP:20260419T231644
CREATED:20250512T084206Z
LAST-MODIFIED:20250512T084206Z
UID:17384-1780617600-1780703999@www.hakamstetten.at
SUMMARY:Schulautonom frei
DESCRIPTION:
URL:https://www.hakamstetten.at/termin/schulautonom-frei-2/
END:VEVENT
BEGIN:VEVENT
DTSTART;TZID=Europe/Berlin:20260624T000000
DTEND;TZID=Europe/Berlin:20260630T000000
DTSTAMP:20260419T231644
CREATED:20260122T100959Z
LAST-MODIFIED:20260122T100959Z
UID:20042-1782259200-1782777600@www.hakamstetten.at
SUMMARY:Kulturreise 2AS
DESCRIPTION:
URL:https://www.hakamstetten.at/termin/kulturreise-2as/
END:VEVENT
BEGIN:VEVENT
DTSTART;TZID=Europe/Berlin:20260625T080000
DTEND;TZID=Europe/Berlin:20260630T170000
DTSTAMP:20260419T231644
CREATED:20250917T075030Z
LAST-MODIFIED:20250917T075030Z
UID:18657-1782374400-1782838800@www.hakamstetten.at
SUMMARY:Meeresbiologische Exkursion Pula
DESCRIPTION:
URL:https://www.hakamstetten.at/termin/meeresbiologische-exkursion-pula/
END:VEVENT
BEGIN:VEVENT
DTSTART;TZID=Europe/Berlin:20260626T170000
DTEND;TZID=Europe/Berlin:20260626T170000
DTSTAMP:20260419T231644
CREATED:20241113T103209Z
LAST-MODIFIED:20250917T074644Z
UID:15856-1782493200-1782493200@www.hakamstetten.at
SUMMARY:Sommerfest
DESCRIPTION:
URL:https://www.hakamstetten.at/termin/sommerfest/
END:VEVENT
BEGIN:VEVENT
DTSTART;TZID=Europe/Berlin:20260922T000000
DTEND;TZID=Europe/Berlin:20260929T000000
DTSTAMP:20260419T231644
CREATED:20260122T101227Z
LAST-MODIFIED:20260122T101227Z
UID:20041-1790035200-1790640000@www.hakamstetten.at
SUMMARY:Sprachreise 4. Klassen
DESCRIPTION:
URL:https://www.hakamstetten.at/termin/sprachreise-4-klassen/
END:VEVENT
BEGIN:VEVENT
DTSTART;TZID=Europe/Berlin:20260930T000000
DTEND;TZID=Europe/Berlin:20261001T000000
DTSTAMP:20260419T231644
CREATED:20260122T101432Z
LAST-MODIFIED:20260122T101432Z
UID:20046-1790726400-1790812800@www.hakamstetten.at
SUMMARY:Teambuilding Schacherhof
DESCRIPTION:
URL:https://www.hakamstetten.at/termin/teambuilding-schacherhof/
END:VEVENT
END:VCALENDAR